0.5
0
0
-0.5
610489.723536029
4752535.68516245
