0.5
0
0
-0.5
627453.450469979
4755148.039305
