0.5
0
0
-0.5
644455.358555317
4755488.87461503
