0.5
0
0
-0.5
620735.162557744
4750396.59352886
