0.5
0
0
-0.5
641199.491003539
4748477.33681874
