0.5
0
0
-0.5
668256.486865948
4756037.60208843
