0.5
0
0
-0.5
651410.608334547
4748697.24211684
