0.5
0
0
-0.5
665025.097991721
4749014.1264102
