0.5
0
0
-0.5
671890.937762781
4746869.35278981
