0.5
0
0
-0.5
681795.8930376
4758701.95426177
