0.5
0
0
-0.5
573200.426134581
4740459.36187593
