0.5
0
0
-0.5
590236.000976669
4740665.43520988
