0.5
0
0
-0.5
580042.066724031
4738223.35811214
