0.5
0
0
-0.5
586858.568185541
4738307.478492
