0.5
0
0
-0.5
583478.848193338
4735951.20982129
