0.5
0
0
-0.5
569889.326922303
4731169.68820078
