0.5
0
0
-0.5
617452.698149922
4743396.5462476
