0.5
0
0
-0.5
597215.645365127
4729192.96858667
