0.5
0
0
-0.5
627671.008947995
4743581.09228384
