0.5
0
0
-0.5
644750.962299487
4741609.00142158
