0.5
0
0
-0.5
627888.122533446
4732014.38303876
