0.5
0
0
-0.5
658433.377097055
4739599.02758776
