0.5
0
0
-0.5
651873.87404748
4727877.49589775
