0.5
0
0
-0.5
655288.09018244
4727954.15424075
