0.5
0
0
-0.5
563131.000021669
4724162.35485075
