0.5
0
0
-0.5
552921.883278357
4719447.94962628
