0.5
0
0
-0.5
539265.656333144
4717041.28278034
