0.5
0
0
-0.5
546102.878347136
4717084.62018679
