0.5
0
0
-0.5
552940.094379552
4717134.69921176
