0.5
0
0
-0.5
549572.682244715
4710169.15137331
