0.5
0
0
-0.5
573376.252530872
4724265.83001816
