0.5
0
0
-0.5
580233.691375582
4722029.95494748
