0.5
0
0
-0.5
583649.9032148
4722071.20837649
