0.5
0
0
-0.5
570008.988624476
4719603.01569626
