0.5
0
0
-0.5
583678.369655639
4719757.91575658
