0.5
0
0
-0.5
590513.089217596
4719845.46771332
