0.5
0
0
-0.5
580288.335484195
4717403.39599036
