0.5
0
0
-0.5
587243.644382624
4708234.63308824
