0.5
0
0
-0.5
597347.848977757
4719939.77710714
