0.5
0
0
-0.5
607600.04807048
4720093.88927144
