0.5
0
0
-0.5
600799.40653347
4717676.18244364
