0.5
0
0
-0.5
614512.255304128
4715578.46018286
