0.5
0
0
-0.5
611167.65506157
4710895.47253517
