0.5
0
0
-0.5
645192.60968177
4720789.08020124
