0.5
0
0
-0.5
638590.740934527
4709080.58275422
