0.5
0
0
-0.5
563325.250174418
4703343.07463898
