0.5
0
0
-0.5
563346.778295791
4701029.92066715
