0.5
0
0
-0.5
563368.324579007
4698716.77139858
