0.5
0
0
-0.5
580479.216933816
4701210.82007955
