0.5
0
0
-0.5
566795.986628958
4698749.45350958
